BEGIN:VCALENDAR
VERSION:2.0
PRODID:-//The Irish Exit ­ - ECPv6.9.0//NONSGML v1.0//EN
CALSCALE:GREGORIAN
METHOD:PUBLISH
X-WR-CALNAME:The Irish Exit ­
X-ORIGINAL-URL:https://the-irish-exit.de
X-WR-CALDESC:Veranstaltungen für The Irish Exit ­
REFRESH-INTERVAL;VALUE=DURATION:PT1H
X-Robots-Tag:noindex
X-PUBLISHED-TTL:PT1H
BEGIN:VTIMEZONE
TZID:Europe/Berlin
BEGIN:DAYLIGHT
TZOFFSETFROM:+0100
TZOFFSETTO:+0200
TZNAME:CEST
DTSTART:20250330T010000
END:DAYLIGHT
BEGIN:STANDARD
TZOFFSETFROM:+0200
TZOFFSETTO:+0100
TZNAME:CET
DTSTART:20251026T010000
END:STANDARD
END:VTIMEZONE
BEGIN:VEVENT
DTSTART;TZID=Europe/Berlin:20251127T200000
DTEND;TZID=Europe/Berlin:20251127T223000
DTSTAMP:20260421T104804
CREATED:20250304T092028Z
LAST-MODIFIED:20250618T171942Z
UID:347-1764273600-1764282600@the-irish-exit.de
SUMMARY:Lutz & Laune
DESCRIPTION:Lutz ist ein junger Musiker und Multi-Instrumentalist aus Radolfzell. Mit seiner Gitarre\, seiner Charakteristischen Stimme\, der Mundharmonika und einer Loop-Station erschafft er ein einzigartiges Klangerlebnis\, das sowohl eigene Songs als auch Coverhits aus vier Jahrzehnten umfasst.\n\nSeine Texte sind leicht verdaulich und laden zum Mitsingen ein. Der ehemalige Bundespreisträger von JugendMusiziert versteht es\, sein Publikum zu fesseln und mit seiner Musik Emotionen zu wecken. Ob bei kleinen Events oder größeren Auftritten – seine authentische Art und seine musikalische Vielseitigkeit machen jeden Auftritt zu einem besonderen Erlebnis.
URL:https://the-irish-exit.de/event/lutz-laune/
ATTACH;FMTTYPE=image/jpeg:https://the-irish-exit.de/wp-content/uploads/2025/03/thumbnail_image0.jpg
END:VEVENT
END:VCALENDAR